Package: ctc Version: 1.85.0 Command: /home/biocbuild/bbs-3.23-bioc/R/bin/R CMD build --keep-empty-dirs --no-resave-data ctc StartedAt: 2025-11-11 17:06:57 -0500 (Tue, 11 Nov 2025) EndedAt: 2025-11-11 17:07:02 -0500 (Tue, 11 Nov 2025) EllapsedTime: 5.0 seconds RetCode: 0 Status: OK PackageFile: ctc_1.85.0.tar.gz PackageFileSize: 270.3 KiB