Package: ctc Version: 1.85.0 Command: /Library/Frameworks/R.framework/Resources/bin/R CMD INSTALL ctc StartedAt: 2025-11-13 15:02:02 -0500 (Thu, 13 Nov 2025) EndedAt: 2025-11-13 15:02:13 -0500 (Thu, 13 Nov 2025) EllapsedTime: 10.3 seconds RetCode: 0 Status: OK