Package: ctc Version: 1.85.0 Command: /Library/Frameworks/R.framework/Resources/bin/R CMD build --keep-empty-dirs --no-resave-data ctc StartedAt: 2025-11-12 16:04:48 -0500 (Wed, 12 Nov 2025) EndedAt: 2025-11-12 16:04:51 -0500 (Wed, 12 Nov 2025) EllapsedTime: 3.0 seconds RetCode: 0 Status: OK PackageFile: ctc_1.85.0.tar.gz PackageFileSize: 270.4 KiB