Package: ctc Version: 1.85.0 Command: rm -rf ctc.buildbin-libdir && mkdir ctc.buildbin-libdir && /Users/biocbuild/BBS/utils/build-universal.sh ctc_1.85.0.tar.gz /Library/Frameworks/R.framework/Resources/bin/R ctc.buildbin-libdir StartedAt: 2025-11-12 20:55:24 -0500 (Wed, 12 Nov 2025) EndedAt: 2025-11-12 20:55:26 -0500 (Wed, 12 Nov 2025) EllapsedTime: 2.1 seconds RetCode: 0 Status: OK PackageFile: ctc_1.85.0.tgz PackageFileSize: 319.5 KiB