Package: ctc Version: 1.85.0 Maintainer: Antoine Lucas MaintainerEmail: antoinelucas at gmail.com git_url: https://git.bioconductor.org/packages/ctc git_branch: devel git_last_commit: 75b3c60 git_last_commit_date: 2025-10-29 09:41:55 -0500 (Wed, 29 Oct 2025)