Package: csdR Version: 1.17.0 Command: /home/biocbuild/bbs-3.23-bioc/R/bin/R CMD INSTALL csdR StartedAt: 2025-11-13 15:44:04 -0500 (Thu, 13 Nov 2025) EndedAt: 2025-11-13 15:44:35 -0500 (Thu, 13 Nov 2025) EllapsedTime: 31.4 seconds RetCode: 0 Status: OK