Package: csdR Version: 1.17.0 Command: /home/biocbuild/bbs-3.23-bioc/R/bin/R CMD build --keep-empty-dirs --no-resave-data csdR StartedAt: 2025-11-13 17:03:12 -0500 (Thu, 13 Nov 2025) EndedAt: 2025-11-13 17:04:01 -0500 (Thu, 13 Nov 2025) EllapsedTime: 49.0 seconds RetCode: 0 Status: OK PackageFile: csdR_1.17.0.tar.gz PackageFileSize: 1.438 MiB