Package: csdR Version: 1.17.0 Command: /Library/Frameworks/R.framework/Resources/bin/R CMD INSTALL csdR StartedAt: 2025-11-12 15:41:24 -0500 (Wed, 12 Nov 2025) EndedAt: 2025-11-12 15:41:34 -0500 (Wed, 12 Nov 2025) EllapsedTime: 10.3 seconds RetCode: 0 Status: OK