Package: csdR Version: 1.17.0 Command: rm -rf csdR.buildbin-libdir && mkdir csdR.buildbin-libdir && /Users/biocbuild/BBS/utils/build-universal.sh csdR_1.17.0.tar.gz /Library/Frameworks/R.framework/Resources/bin/R csdR.buildbin-libdir StartedAt: 2025-11-12 20:55:21 -0500 (Wed, 12 Nov 2025) EndedAt: 2025-11-12 20:55:35 -0500 (Wed, 12 Nov 2025) EllapsedTime: 13.3 seconds RetCode: 0 Status: OK PackageFile: csdR_1.17.0.tgz PackageFileSize: 1.503 MiB