Package: csaw Version: 1.45.0 Command: /home/biocbuild/bbs-3.23-bioc/R/bin/R CMD INSTALL csaw StartedAt: 2025-11-13 15:17:10 -0500 (Thu, 13 Nov 2025) EndedAt: 2025-11-13 15:18:22 -0500 (Thu, 13 Nov 2025) EllapsedTime: 72.1 seconds RetCode: 0 Status: OK