Package: csaw Version: 1.45.0 Command: /home/biocbuild/bbs-3.23-bioc/R/bin/R CMD build --keep-empty-dirs --no-resave-data csaw StartedAt: 2025-11-13 17:03:07 -0500 (Thu, 13 Nov 2025) EndedAt: 2025-11-13 17:04:30 -0500 (Thu, 13 Nov 2025) EllapsedTime: 83.1 seconds RetCode: 0 Status: OK PackageFile: csaw_1.45.0.tar.gz PackageFileSize: 389.2 KiB