Package: csaw Version: 1.45.0 Command: /Library/Frameworks/R.framework/Resources/bin/R CMD INSTALL csaw StartedAt: 2025-11-12 15:24:24 -0500 (Wed, 12 Nov 2025) EndedAt: 2025-11-12 15:24:25 -0500 (Wed, 12 Nov 2025) EllapsedTime: 1.0 seconds RetCode: 1 Status: ERROR