############################################################################## ############################################################################## ### ### Running command: ### ### /Library/Frameworks/R.framework/Resources/bin/R CMD build --keep-empty-dirs --no-resave-data csaw ### ############################################################################## ############################################################################## * checking for file ‘csaw/DESCRIPTION’ ... OK * preparing ‘csaw’: * checking DESCRIPTION meta-information ... OK * cleaning src * installing the package (it is needed to build vignettes) ----------------------------------- ERROR: dependency ‘edgeR’ is not available for package ‘csaw’ Perhaps try a variation of: install.packages('edgeR') * removing ‘/private/var/folders/r0/l4fjk6cj5xj0j3brt4bplpl40000gt/T/Rtmpx6LPNO/Rinst124467481e5e9/csaw’ ----------------------------------- ERROR: package installation failed