Package: crupR Version: 1.3.0 Command: /home/biocbuild/bbs-3.23-bioc/R/bin/R CMD INSTALL crupR StartedAt: 2025-11-13 15:59:22 -0500 (Thu, 13 Nov 2025) EndedAt: 2025-11-13 16:00:04 -0500 (Thu, 13 Nov 2025) EllapsedTime: 42.7 seconds RetCode: 0 Status: OK