Package: crupR Version: 1.3.0 Command: /home/biocbuild/bbs-3.23-bioc/R/bin/R CMD build --keep-empty-dirs --no-resave-data crupR StartedAt: 2025-11-11 17:05:59 -0500 (Tue, 11 Nov 2025) EndedAt: 2025-11-11 17:16:25 -0500 (Tue, 11 Nov 2025) EllapsedTime: 626.6 seconds RetCode: 0 Status: OK PackageFile: crupR_1.3.0.tar.gz PackageFileSize: 4.149 MiB