Package: crupR Version: 1.3.0 Command: /Library/Frameworks/R.framework/Resources/bin/R CMD INSTALL crupR StartedAt: 2025-11-12 15:46:01 -0500 (Wed, 12 Nov 2025) EndedAt: 2025-11-12 15:46:16 -0500 (Wed, 12 Nov 2025) EllapsedTime: 15.1 seconds RetCode: 0 Status: OK