Package: crupR Version: 1.3.0 Command: /Library/Frameworks/R.framework/Resources/bin/R CMD build --keep-empty-dirs --no-resave-data crupR StartedAt: 2025-11-12 16:04:22 -0500 (Wed, 12 Nov 2025) EndedAt: 2025-11-12 16:08:28 -0500 (Wed, 12 Nov 2025) EllapsedTime: 245.9 seconds RetCode: 0 Status: OK PackageFile: crupR_1.3.0.tar.gz PackageFileSize: 4.149 MiB