Package: crupR Version: 1.3.0 Command: rm -rf crupR.buildbin-libdir && mkdir crupR.buildbin-libdir && /Users/biocbuild/BBS/utils/build-universal.sh crupR_1.3.0.tar.gz /Library/Frameworks/R.framework/Resources/bin/R crupR.buildbin-libdir StartedAt: 2025-11-12 20:55:18 -0500 (Wed, 12 Nov 2025) EndedAt: 2025-11-12 20:55:38 -0500 (Wed, 12 Nov 2025) EllapsedTime: 19.4 seconds RetCode: 0 Status: OK PackageFile: crupR_1.3.0.tgz PackageFileSize: 4.245 MiB