Package: crlmm Version: 1.69.0 Command: /Library/Frameworks/R.framework/Resources/bin/R CMD build --keep-empty-dirs --no-resave-data crlmm StartedAt: 2025-11-14 16:01:22 -0500 (Fri, 14 Nov 2025) EndedAt: 2025-11-14 16:02:30 -0500 (Fri, 14 Nov 2025) EllapsedTime: 68.7 seconds RetCode: 0 Status: OK PackageFile: crlmm_1.69.0.tar.gz PackageFileSize: 4.276 MiB