Package: crlmm Version: 1.69.0 Command: rm -rf crlmm.buildbin-libdir && mkdir crlmm.buildbin-libdir && /Users/biocbuild/BBS/utils/build-universal.sh crlmm_1.69.0.tar.gz /Library/Frameworks/R.framework/Resources/bin/R crlmm.buildbin-libdir StartedAt: 2025-11-14 23:28:39 -0500 (Fri, 14 Nov 2025) EndedAt: 2025-11-14 23:28:58 -0500 (Fri, 14 Nov 2025) EllapsedTime: 18.3 seconds RetCode: 0 Status: OK PackageFile: crlmm_1.69.0.tgz PackageFileSize: 5.2 MiB