Package: crisprScore Version: 1.15.0 Command: /home/biocbuild/bbs-3.23-bioc/R/bin/R CMD build --keep-empty-dirs --no-resave-data crisprScore StartedAt: 2025-11-14 17:01:57 -0500 (Fri, 14 Nov 2025) EndedAt: 2025-11-14 17:02:22 -0500 (Fri, 14 Nov 2025) EllapsedTime: 25.0 seconds RetCode: 0 Status: OK PackageFile: crisprScore_1.15.0.tar.gz PackageFileSize: 4.506 MiB