Package: crisprScore Version: 1.15.0 Command: /Library/Frameworks/R.framework/Resources/bin/R CMD INSTALL crisprScore StartedAt: 2025-11-14 15:09:52 -0500 (Fri, 14 Nov 2025) EndedAt: 2025-11-14 15:09:59 -0500 (Fri, 14 Nov 2025) EllapsedTime: 6.4 seconds RetCode: 0 Status: OK