Package: crisprScore Version: 1.15.0 Command: /Library/Frameworks/R.framework/Resources/bin/R CMD build --keep-empty-dirs --no-resave-data crisprScore StartedAt: 2025-11-14 16:01:06 -0500 (Fri, 14 Nov 2025) EndedAt: 2025-11-14 16:01:19 -0500 (Fri, 14 Nov 2025) EllapsedTime: 12.1 seconds RetCode: 0 Status: OK PackageFile: crisprScore_1.15.0.tar.gz PackageFileSize: 4.5 MiB