Package: crisprScore Version: 1.15.0 Command: rm -rf crisprScore.buildbin-libdir && mkdir crisprScore.buildbin-libdir && /Users/biocbuild/BBS/utils/build-universal.sh crisprScore_1.15.0.tar.gz /Library/Frameworks/R.framework/Resources/bin/R crisprScore.buildbin-libdir StartedAt: 2025-11-14 23:28:36 -0500 (Fri, 14 Nov 2025) EndedAt: 2025-11-14 23:28:46 -0500 (Fri, 14 Nov 2025) EllapsedTime: 10.2 seconds RetCode: 0 Status: OK PackageFile: crisprScore_1.15.0.tgz PackageFileSize: 4.399 MiB