Package: crisprDesign Version: 1.13.2 Command: /home/biocbuild/bbs-3.23-bioc/R/bin/R CMD INSTALL crisprDesign StartedAt: 2025-11-13 15:45:27 -0500 (Thu, 13 Nov 2025) EndedAt: 2025-11-13 15:46:18 -0500 (Thu, 13 Nov 2025) EllapsedTime: 51.9 seconds RetCode: 0 Status: OK