Package: crisprDesign Version: 1.13.2 Command: /home/biocbuild/bbs-3.23-bioc/R/bin/R CMD build --keep-empty-dirs --no-resave-data crisprDesign StartedAt: 2025-11-13 17:01:22 -0500 (Thu, 13 Nov 2025) EndedAt: 2025-11-13 17:03:17 -0500 (Thu, 13 Nov 2025) EllapsedTime: 115.1 seconds RetCode: 0 Status: OK PackageFile: crisprDesign_1.13.2.tar.gz PackageFileSize: 2.899 MiB