Package: crisprDesign Version: 1.13.2 Command: /Library/Frameworks/R.framework/Resources/bin/R CMD INSTALL crisprDesign StartedAt: 2025-11-13 15:24:35 -0500 (Thu, 13 Nov 2025) EndedAt: 2025-11-13 15:24:56 -0500 (Thu, 13 Nov 2025) EllapsedTime: 20.8 seconds RetCode: 0 Status: OK