Package: crisprDesign Version: 1.13.2 Command: /Library/Frameworks/R.framework/Resources/bin/R CMD build --keep-empty-dirs --no-resave-data crisprDesign StartedAt: 2025-11-13 16:04:12 -0500 (Thu, 13 Nov 2025) EndedAt: 2025-11-13 16:05:01 -0500 (Thu, 13 Nov 2025) EllapsedTime: 48.5 seconds RetCode: 0 Status: OK PackageFile: crisprDesign_1.13.2.tar.gz PackageFileSize: 2.899 MiB