Package: crisprDesign Version: 1.13.2 Maintainer: Jean-Philippe Fortin MaintainerEmail: fortin946 at gmail.com git_url: https://git.bioconductor.org/packages/crisprDesign git_branch: devel git_last_commit: 641310f git_last_commit_date: 2025-11-11 18:28:25 -0500 (Tue, 11 Nov 2025)