Package: crisprBase Version: 1.15.0 Command: /home/biocbuild/bbs-3.23-bioc/R/bin/R CMD INSTALL crisprBase StartedAt: 2025-11-13 15:15:21 -0500 (Thu, 13 Nov 2025) EndedAt: 2025-11-13 15:15:35 -0500 (Thu, 13 Nov 2025) EllapsedTime: 14.5 seconds RetCode: 0 Status: OK