Package: crisprBase Version: 1.15.0 Command: /Library/Frameworks/R.framework/Resources/bin/R CMD INSTALL crisprBase StartedAt: 2025-11-13 15:10:27 -0500 (Thu, 13 Nov 2025) EndedAt: 2025-11-13 15:10:33 -0500 (Thu, 13 Nov 2025) EllapsedTime: 6.1 seconds RetCode: 0 Status: OK