Package: crisprBase Version: 1.15.0 Command: /Library/Frameworks/R.framework/Resources/bin/R CMD build --keep-empty-dirs --no-resave-data crisprBase StartedAt: 2025-11-12 16:03:36 -0500 (Wed, 12 Nov 2025) EndedAt: 2025-11-12 16:03:46 -0500 (Wed, 12 Nov 2025) EllapsedTime: 10.1 seconds RetCode: 0 Status: OK PackageFile: crisprBase_1.15.0.tar.gz PackageFileSize: 1.738 MiB