Package: crisprBase Version: 1.15.0 Maintainer: Jean-Philippe Fortin MaintainerEmail: fortin946 at gmail.com git_url: https://git.bioconductor.org/packages/crisprBase git_branch: devel git_last_commit: 8c55499 git_last_commit_date: 2025-10-29 11:14:18 -0500 (Wed, 29 Oct 2025)