Package: covRNA Version: 1.37.0 Command: /Library/Frameworks/R.framework/Resources/bin/R CMD build --keep-empty-dirs --no-resave-data covRNA StartedAt: 2025-11-14 15:59:59 -0500 (Fri, 14 Nov 2025) EndedAt: 2025-11-14 16:00:22 -0500 (Fri, 14 Nov 2025) EllapsedTime: 23.2 seconds RetCode: 0 Status: OK PackageFile: covRNA_1.37.0.tar.gz PackageFileSize: 555.1 KiB