Package: covEB Version: 1.37.0 Command: /Library/Frameworks/R.framework/Resources/bin/R CMD INSTALL covEB StartedAt: 2025-11-14 15:07:28 -0500 (Fri, 14 Nov 2025) EndedAt: 2025-11-14 15:07:31 -0500 (Fri, 14 Nov 2025) EllapsedTime: 3.3 seconds RetCode: 0 Status: OK