Package: covEB Version: 1.37.0 Command: /Library/Frameworks/R.framework/Resources/bin/R CMD build --keep-empty-dirs --no-resave-data covEB StartedAt: 2025-11-14 15:59:52 -0500 (Fri, 14 Nov 2025) EndedAt: 2025-11-14 15:59:59 -0500 (Fri, 14 Nov 2025) EllapsedTime: 7.1 seconds RetCode: 0 Status: OK PackageFile: covEB_1.37.0.tar.gz PackageFileSize: 115 KiB