Package: covEB Version: 1.37.0 Command: rm -rf covEB.buildbin-libdir && mkdir covEB.buildbin-libdir && /Users/biocbuild/BBS/utils/build-universal.sh covEB_1.37.0.tar.gz /Library/Frameworks/R.framework/Resources/bin/R covEB.buildbin-libdir StartedAt: 2025-11-14 23:28:23 -0500 (Fri, 14 Nov 2025) EndedAt: 2025-11-14 23:28:28 -0500 (Fri, 14 Nov 2025) EllapsedTime: 5.1 seconds RetCode: 0 Status: OK PackageFile: covEB_1.37.0.tgz PackageFileSize: 150.2 KiB