Package: countsimQC Version: 1.29.0 Command: /Library/Frameworks/R.framework/Resources/bin/R CMD build --keep-empty-dirs --no-resave-data countsimQC StartedAt: 2025-11-13 16:03:00 -0500 (Thu, 13 Nov 2025) EndedAt: 2025-11-13 16:03:58 -0500 (Thu, 13 Nov 2025) EllapsedTime: 57.6 seconds RetCode: 0 Status: OK PackageFile: countsimQC_1.29.0.tar.gz PackageFileSize: 440.7 KiB