Package: cosmosR Version: 1.19.0 Command: /home/biocbuild/bbs-3.23-bioc/R/bin/R CMD INSTALL cosmosR StartedAt: 2025-11-13 15:29:27 -0500 (Thu, 13 Nov 2025) EndedAt: 2025-11-13 15:29:35 -0500 (Thu, 13 Nov 2025) EllapsedTime: 7.6 seconds RetCode: 0 Status: OK