Package: cosmosR Version: 1.19.0 Command: /home/biocbuild/bbs-3.23-bioc/R/bin/R CMD build --keep-empty-dirs --no-resave-data cosmosR StartedAt: 2025-11-11 17:02:21 -0500 (Tue, 11 Nov 2025) EndedAt: 2025-11-11 17:02:38 -0500 (Tue, 11 Nov 2025) EllapsedTime: 17.0 seconds RetCode: 0 Status: OK PackageFile: cosmosR_1.19.0.tar.gz PackageFileSize: 3.365 MiB