Package: cosmosR Version: 1.19.0 Command: /Library/Frameworks/R.framework/Resources/bin/R CMD INSTALL cosmosR StartedAt: 2025-11-13 15:09:30 -0500 (Thu, 13 Nov 2025) EndedAt: 2025-11-13 15:09:34 -0500 (Thu, 13 Nov 2025) EllapsedTime: 3.5 seconds RetCode: 0 Status: OK