Package: cosmosR Version: 1.19.0 Command: /Library/Frameworks/R.framework/Resources/bin/R CMD build --keep-empty-dirs --no-resave-data cosmosR StartedAt: 2025-11-13 16:02:52 -0500 (Thu, 13 Nov 2025) EndedAt: 2025-11-13 16:03:00 -0500 (Thu, 13 Nov 2025) EllapsedTime: 8.1 seconds RetCode: 0 Status: OK PackageFile: cosmosR_1.19.0.tar.gz PackageFileSize: 3.365 MiB