Package: cosmosR Version: 1.19.0 Command: rm -rf cosmosR.buildbin-libdir && mkdir cosmosR.buildbin-libdir && /Users/biocbuild/BBS/utils/build-universal.sh cosmosR_1.19.0.tar.gz /Library/Frameworks/R.framework/Resources/bin/R cosmosR.buildbin-libdir StartedAt: 2025-11-12 20:54:57 -0500 (Wed, 12 Nov 2025) EndedAt: 2025-11-12 20:55:02 -0500 (Wed, 12 Nov 2025) EllapsedTime: 5.1 seconds RetCode: 0 Status: OK PackageFile: cosmosR_1.19.0.tgz PackageFileSize: 3.451 MiB