Package: cosmosR Version: 1.19.0 Maintainer: Attila Gabor MaintainerEmail: attila.gabor at uni-heidelberg.de git_url: https://git.bioconductor.org/packages/cosmosR git_branch: devel git_last_commit: 5528c3b git_last_commit_date: 2025-10-29 11:09:16 -0500 (Wed, 29 Oct 2025)