Package: cosmiq Version: 1.45.0 Command: /home/biocbuild/bbs-3.23-bioc/R/bin/R CMD INSTALL cosmiq StartedAt: 2025-11-13 15:42:29 -0500 (Thu, 13 Nov 2025) EndedAt: 2025-11-13 15:43:10 -0500 (Thu, 13 Nov 2025) EllapsedTime: 41.5 seconds RetCode: 0 Status: OK