Package: cosmiq Version: 1.45.0 Command: /home/biocbuild/bbs-3.23-bioc/R/bin/R CMD build --keep-empty-dirs --no-resave-data cosmiq StartedAt: 2025-11-11 17:02:07 -0500 (Tue, 11 Nov 2025) EndedAt: 2025-11-11 17:04:28 -0500 (Tue, 11 Nov 2025) EllapsedTime: 141.1 seconds RetCode: 0 Status: OK PackageFile: cosmiq_1.45.0.tar.gz PackageFileSize: 541.3 KiB