Package: cosmiq Version: 1.45.0 Maintainer: David Fischer MaintainerEmail: dajofischer at googlemail.com git_url: https://git.bioconductor.org/packages/cosmiq git_branch: devel git_last_commit: 5f8e85a git_last_commit_date: 2025-10-29 10:19:47 -0500 (Wed, 29 Oct 2025)