Package: coseq Version: 1.35.0 Command: /home/biocbuild/bbs-3.23-bioc/R/bin/R CMD INSTALL coseq StartedAt: 2025-11-14 15:22:49 -0500 (Fri, 14 Nov 2025) EndedAt: 2025-11-14 15:23:20 -0500 (Fri, 14 Nov 2025) EllapsedTime: 31.0 seconds RetCode: 0 Status: OK