Package: coseq Version: 1.35.0 Command: /home/biocbuild/bbs-3.23-bioc/R/bin/R CMD build --keep-empty-dirs --no-resave-data coseq StartedAt: 2025-11-14 16:59:16 -0500 (Fri, 14 Nov 2025) EndedAt: 2025-11-14 17:03:22 -0500 (Fri, 14 Nov 2025) EllapsedTime: 246.2 seconds RetCode: 0 Status: OK PackageFile: coseq_1.35.0.tar.gz PackageFileSize: 1.893 MiB