Package: coseq Version: 1.35.0 Command: /Library/Frameworks/R.framework/Resources/bin/R CMD INSTALL coseq StartedAt: 2025-11-13 15:13:28 -0500 (Thu, 13 Nov 2025) EndedAt: 2025-11-13 15:13:40 -0500 (Thu, 13 Nov 2025) EllapsedTime: 12.4 seconds RetCode: 0 Status: OK